BEGIN:VCALENDAR
PRODID:-//eluceo/ical//2.0/EN
VERSION:2.0
CALSCALE:GREGORIAN
BEGIN:VEVENT
UID:387576503d78db6af67348a49841a14d
DTSTAMP:20260423T195201Z
SUMMARY:CHA Mother's Day Party
DESCRIPTION:Jewish Federation of Greater Naples\nCommunity Calendar\nhttps:
 //jewishnaples.org/calendar/mothers-day-party-1651070123\n\nMother's Day P
 arty at Chabad of Naples
DTSTART;TZID=America/New_York:20220506T090000
DTEND;TZID=America/New_York:20220506T170000
END:VEVENT
END:VCALENDAR
