BEGIN:VCALENDAR
PRODID:-//eluceo/ical//2.0/EN
VERSION:2.0
CALSCALE:GREGORIAN
BEGIN:VEVENT
UID:925c1f4683fd08c9ef946b2033bff5ff
DTSTAMP:20260423T125509Z
SUMMARY:JFGN M&M Sunday Brunch at Mira Mare
DESCRIPTION:Jewish Federation of Greater Naples\nCommunity Calendar\nhttps:
 //jewishnaples.org/calendar/mm-sunday-brunch-at-mira-mare-1630342167\n\nRa
 in or Shine Sunday Brunch at Mira Mare. We will dine Al Fresco overlooking
  the Bay at Venetian Village. What a beautiful view! Join the Mix 'n Mingl
 ers for a Sunny Sunday brunch outside on the patio under beautiful umbrell
 as. If it rains\, we will dine on the third floor under the overhang. All 
 reservations must be in by 8th!!\nfor menu information\, check out www.mir
 amare.com!
DTSTART;TZID=America/New_York:20211010T113000
DTEND;TZID=America/New_York:20211010T133000
END:VEVENT
END:VCALENDAR
