BEGIN:VCALENDAR
PRODID:-//eluceo/ical//2.0/EN
VERSION:2.0
CALSCALE:GREGORIAN
BEGIN:VEVENT
UID:708b6baf9066b6323c143051060fda67
DTSTAMP:20260420T180927Z
SUMMARY:MM Game Day
DESCRIPTION:Jewish Federation of Greater Naples\nCommunity Calendar\nhttps:
 //jewishnaples.org/calendar/mm-game-day-3\n\nGame Day and Mingling\n\n \n
 \nPlease join us for a variety of\n\nboard games\, card games\, puzzles an
 d Boggle.\n\nLet’s Mingle and have fun!\n\n \n\nWho: All Jewish senior 
 singles are invited to attend.\n\nWhen: Join us for one or all 3 dates:\n\
 nMonday\, September 18\n\nMonday\, October 30\n\nMonday\, November 20\n\nW
 here: Jewish Federation of Collier County\n\nTime: 2:00-4:00 pm\n\nCost: F
 ree.\n\n \n\nReservations:\n\nPlease call Renee’ at 239-263-4205 or ema
 il: rbialek@jewishnaples.org....
DTSTART;TZID=America/New_York:20171120T140000
DTEND;TZID=America/New_York:20171120T160000
END:VEVENT
END:VCALENDAR
