BEGIN:VCALENDAR
PRODID:-//eluceo/ical//2.0/EN
VERSION:2.0
CALSCALE:GREGORIAN
BEGIN:VEVENT
UID:63d7296095bbf1ec8881cfddf3eba8df
DTSTAMP:20260424T023722Z
SUMMARY:MM Botanical Gardens
DESCRIPTION:Jewish Federation of Greater Naples\nCommunity Calendar\nhttps:
 //jewishnaples.org/calendar/mm-botanical-gardens\n\nMix and Mingle\n\n \n
 \nClick here for more information.
DTSTART;TZID=America/New_York:20170908T101500
DTEND;TZID=America/New_York:20170908T121500
END:VEVENT
END:VCALENDAR
