BEGIN:VCALENDAR
PRODID:-//eluceo/ical//2.0/EN
VERSION:2.0
CALSCALE:GREGORIAN
BEGIN:VEVENT
UID:d5edb68eff84d35644b08b05d8786a0d
DTSTAMP:20260420T223537Z
SUMMARY:MLK Jr. Parade
DESCRIPTION:Jewish Federation of Greater Naples\nCommunity Calendar\nhttps:
 //jewishnaples.org/calendar/mlk-jr-parade-1579720213\n\nJoin the Jewish Fe
 deration of Greater Naples.\nWalk with us in the Parade that starts at 11 
 am.\n\nPlease mark your calendar for the 24th Annual Rev. Dr. Martin Luthe
 r King\, Jr. Parade and Celebration\nMonday\, January 18\, 2021.
DTSTART;TZID=America/New_York:20210118T110000
DTEND;TZID=America/New_York:20210118T140000
END:VEVENT
END:VCALENDAR
