BEGIN:VCALENDAR
PRODID:-//eluceo/ical//2.0/EN
VERSION:2.0
CALSCALE:GREGORIAN
BEGIN:VEVENT
UID:1e9b0f1672b88f60c44c073a203f8713
DTSTAMP:20260422T115015Z
SUMMARY:MLK JR PARADE- WALK WITH US
DESCRIPTION:Jewish Federation of Greater Naples\nCommunity Calendar\nhttps:
 //jewishnaples.org/calendar/mlk-jr-parade--walk-with-us-1653062283\n\nWalk
  with us in the parade.\nContact Renee for more information\nJFGN MLK JR P
 arade
DTSTART;TZID=America/New_York:20230116T080000
DTEND;TZID=America/New_York:20230116T140000
END:VEVENT
END:VCALENDAR
