BEGIN:VCALENDAR
PRODID:-//eluceo/ical//2.0/EN
VERSION:2.0
CALSCALE:GREGORIAN
BEGIN:VEVENT
UID:3bcfe8c1f1b089e8398779a665ecf918
DTSTAMP:20260420T190853Z
SUMMARY:Mix n' Mingle July 4 Brunch
DESCRIPTION:Jewish Federation of Greater Naples\nCommunity Calendar\nhttps:
 //jewishnaples.org/calendar/mix-n-mingle-july-4-brunch-1623691797\n\nThe m
 ix n Mingle "lucky ten" will have a spectacular July 4 brunch at M Waterfr
 ont Grill at an inside table with a view of the waterfront
DTSTART;TZID=America/New_York:20210704T113000
DTEND;TZID=America/New_York:20210704T143000
END:VEVENT
END:VCALENDAR
