BEGIN:VCALENDAR
PRODID:-//eluceo/ical//2.0/EN
VERSION:2.0
CALSCALE:GREGORIAN
BEGIN:VEVENT
UID:d6b8d4e61bfd141dd492a4c5b804bea9
DTSTAMP:20260422T194844Z
SUMMARY:Mix and Mingle\, Rosh Hashanah Lunch-Dinner
DESCRIPTION:Jewish Federation of Greater Naples\nCommunity Calendar\nhttps:
 //jewishnaples.org/calendar/mix-and-mingle-rosh-hashanah-lunch-dinner-1531
 934639\n\nJewish senior singles sponsored by Jewish Federation of Greater 
 Naples\n\n \n\nJOIN US FOR\nROSH HASHANAH\n"LATE LUNCH/EARLY DINNER"\nAS 
 WE WELCOME\nTHE JEWISH NEW YEAR 5779\nL'SHANA TOVA!\n\n \n\nWho: Jewish s
 ingles\, family and friends are invited\n\nWhen: Monday\, September 10\, 2
 018\n\nWhere: Bravo at Mercato: NEW LOCATION\n\n \n\nTime: 1:00 pm- ish\,
  following Rosh Hashanah Services\n\n \n\nCost: Separate checks for each 
 individual at the restaurant.\n• Complimentary Honey and Apples f...
DTSTART;TZID=America/New_York:20180910T130000
DTEND;TZID=America/New_York:20180910T150000
END:VEVENT
END:VCALENDAR
