BEGIN:VCALENDAR
PRODID:-//eluceo/ical//2.0/EN
VERSION:2.0
CALSCALE:GREGORIAN
BEGIN:VEVENT
UID:6a1d777abf7d7c909de3601fefc7c73c
DTSTAMP:20260422T085633Z
SUMMARY:Memory Loss with Dr. Chander
DESCRIPTION:Jewish Federation of Greater Naples\nCommunity Calendar\nhttps:
 //jewishnaples.org/calendar/memory-loss-with-dr-chander-1743101032\n\nMemo
 ry Loss with Dr. Ankit Chander\nWednesday\, June 11 at 2 pm\nFree program 
 for all.\nNina Iser Jewish Cultural Center\nPlease register\n\nDr. Chander
  will present on memory loss: on the current state of affairs\, and what w
 e can change. In this talk\, Dr. Chander will discuss dementia from severa
 l angles. First we will discuss the current epidemiology and trends. Next\
 , he will point out the common misconceptions that needs to be shifted to 
 create a dementia-less city in the future. Finally\, h...
DTSTART;TZID=America/New_York:20250611T140000
DTEND;TZID=America/New_York:20250611T150000
END:VEVENT
END:VCALENDAR
