BEGIN:VCALENDAR
PRODID:-//eluceo/ical//2.0/EN
VERSION:2.0
CALSCALE:GREGORIAN
BEGIN:VEVENT
UID:1b0eddf1bd7aad76a43caa0e56a10921
DTSTAMP:20260423T003943Z
SUMMARY:Melton Core class year 3
DESCRIPTION:Jewish Federation of Greater Naples\nCommunity Calendar\nhttps:
 //jewishnaples.org/calendar/melton-core-class-year-3-1525978791\n\nRegistr
 ation required. Please contact the Temple Shalom Education Department for 
 more information.
DTSTART;TZID=America/New_York:20181204T150000
DTEND;TZID=America/New_York:20181204T170000
END:VEVENT
END:VCALENDAR
