BEGIN:VCALENDAR
PRODID:-//eluceo/ical//2.0/EN
VERSION:2.0
CALSCALE:GREGORIAN
BEGIN:VEVENT
UID:644edaf82bd5590f4fb5aa7dac1c4e11
DTSTAMP:20260423T091549Z
SUMMARY:Melton Core Class year 2
DESCRIPTION:Jewish Federation of Greater Naples\nCommunity Calendar\nhttps:
 //jewishnaples.org/calendar/melton-core-class-year-2-1525978461\n\nRegistr
 ation required. Please contact the Temple Shalom Education Department for 
 more information.
DTSTART;TZID=America/New_York:20181204T140000
DTEND;TZID=America/New_York:20181204T160000
END:VEVENT
END:VCALENDAR
