BEGIN:VCALENDAR
PRODID:-//eluceo/ical//2.0/EN
VERSION:2.0
CALSCALE:GREGORIAN
BEGIN:VEVENT
UID:6978ea75116aa6964758aa45ec7e6946
DTSTAMP:20260421T232150Z
SUMMARY:MCA/WCA Canasta Night
DESCRIPTION:Jewish Federation of Greater Naples\nCommunity Calendar\nhttps:
 //jewishnaples.org/calendar/mcawca-canasta-night\n\nMCA/WCA Canasta Night
DTSTART;TZID=America/New_York:20260112T180000
DTEND;TZID=America/New_York:20260112T213000
END:VEVENT
END:VCALENDAR
