BEGIN:VCALENDAR
PRODID:-//eluceo/ical//2.0/EN
VERSION:2.0
CALSCALE:GREGORIAN
BEGIN:VEVENT
UID:d9418a0a44e070e7bf411f0c49b329d5
DTSTAMP:20260424T004201Z
SUMMARY:MCA Welcome Back Luncheon
DESCRIPTION:Jewish Federation of Greater Naples\nCommunity Calendar\nhttps:
 //jewishnaples.org/calendar/mca-welcome-back-luncheon\n\nMCA Welcome Back 
 Lunch
DTSTART;TZID=America/New_York:20161110T113000
DTEND;TZID=America/New_York:20161110T113000
END:VEVENT
END:VCALENDAR
