BEGIN:VCALENDAR
PRODID:-//eluceo/ical//2.0/EN
VERSION:2.0
CALSCALE:GREGORIAN
BEGIN:VEVENT
UID:794e30e3dddc3174bb5e4d393be50b55
DTSTAMP:20260421T000846Z
SUMMARY:MCA WCA Steve Brazina Doc Film Feb 6
DESCRIPTION:Jewish Federation of Greater Naples\nCommunity Calendar\nhttps:
 //jewishnaples.org/calendar/mca-wca-steve-brazina-doc-film-feb-6-168417227
 9\n\nMCA WCA Steve Brazina Doc Film Feb 6
DTSTART;TZID=America/New_York:20240206T133000
DTEND;TZID=America/New_York:20240206T150000
END:VEVENT
END:VCALENDAR
