BEGIN:VCALENDAR
PRODID:-//eluceo/ical//2.0/EN
VERSION:2.0
CALSCALE:GREGORIAN
BEGIN:VEVENT
UID:60238614e4c3f2c15d3623351fc3b915
DTSTAMP:20260422T231931Z
SUMMARY:MCA WCA Steve Brazina Doc Film Dec 5
DESCRIPTION:Jewish Federation of Greater Naples\nCommunity Calendar\nhttps:
 //jewishnaples.org/calendar/mca-wca-steve-brazina-doc-film-dec-5-168417219
 6\n\nMCA WCA Steve Brazina Doc Film Dec 5
DTSTART;TZID=America/New_York:20231205T133000
DTEND;TZID=America/New_York:20231205T150000
END:VEVENT
END:VCALENDAR
