BEGIN:VCALENDAR
PRODID:-//eluceo/ical//2.0/EN
VERSION:2.0
CALSCALE:GREGORIAN
BEGIN:VEVENT
UID:5a7c97beaa1a10fb611e7fd61cbf2a8b
DTSTAMP:20260422T104826Z
SUMMARY:MCA Trivia Night Jan 25
DESCRIPTION:Jewish Federation of Greater Naples\nCommunity Calendar\nhttps:
 //jewishnaples.org/calendar/mca-trivia-night-jan-25-1753799822\n\nMCA Triv
 ia Night
DTSTART;TZID=America/New_York:20260125T183000
DTEND;TZID=America/New_York:20260125T203000
END:VEVENT
END:VCALENDAR
