BEGIN:VCALENDAR
PRODID:-//eluceo/ical//2.0/EN
VERSION:2.0
CALSCALE:GREGORIAN
BEGIN:VEVENT
UID:bf571574fea88567d3ed6095fe44a653
DTSTAMP:20260423T152518Z
SUMMARY:MCA Trivia Night Dec 14
DESCRIPTION:Jewish Federation of Greater Naples\nCommunity Calendar\nhttps:
 //jewishnaples.org/calendar/mca-trivia-night-dec-14-1753799781\n\nMCA Triv
 ia Night
DTSTART;TZID=America/New_York:20251214T183000
DTEND;TZID=America/New_York:20251214T203000
END:VEVENT
END:VCALENDAR
