BEGIN:VCALENDAR
PRODID:-//eluceo/ical//2.0/EN
VERSION:2.0
CALSCALE:GREGORIAN
BEGIN:VEVENT
UID:291105ea0df3d2adf782ea737592ac0b
DTSTAMP:20260420T204555Z
SUMMARY:MCA Trivia Night
DESCRIPTION:Jewish Federation of Greater Naples\nCommunity Calendar\nhttps:
 //jewishnaples.org/calendar/mca-trivia-night-1755698630\n\nMCA Trivia Nigh
 t
DTSTART;TZID=America/New_York:20260207T190000
DTEND;TZID=America/New_York:20260207T210000
END:VEVENT
END:VCALENDAR
