BEGIN:VCALENDAR
PRODID:-//eluceo/ical//2.0/EN
VERSION:2.0
CALSCALE:GREGORIAN
BEGIN:VEVENT
UID:f28a5e22ce2bc01c4f3f3ca4558f4a4f
DTSTAMP:20260424T063538Z
SUMMARY:MCA Sweetheart Dance
DESCRIPTION:Jewish Federation of Greater Naples\nCommunity Calendar\nhttps:
 //jewishnaples.org/calendar/mca-sweetheart-dance-1712183936\n\nMCA
DTSTART;TZID=America/New_York:20250301T180000
DTEND;TZID=America/New_York:20250301T220000
END:VEVENT
END:VCALENDAR
