BEGIN:VCALENDAR
PRODID:-//eluceo/ical//2.0/EN
VERSION:2.0
CALSCALE:GREGORIAN
BEGIN:VEVENT
UID:95f8c368a7458b2e86c5fa22a824552d
DTSTAMP:20260423T113106Z
SUMMARY:MCA Sweetheart Dance
DESCRIPTION:Jewish Federation of Greater Naples\nCommunity Calendar\nhttps:
 //jewishnaples.org/calendar/mca-sweetheart-dance-1560871243\n\nMCA members
DTSTART;TZID=America/New_York:20200307T190000
DTEND;TZID=America/New_York:20200307T210000
END:VEVENT
END:VCALENDAR
