BEGIN:VCALENDAR
PRODID:-//eluceo/ical//2.0/EN
VERSION:2.0
CALSCALE:GREGORIAN
BEGIN:VEVENT
UID:9fee55e7ae2d1ae7023008ac48a9080a
DTSTAMP:20260422T082820Z
SUMMARY:MCA Sweetheart Dance
DESCRIPTION:Jewish Federation of Greater Naples\nCommunity Calendar\nhttps:
 //jewishnaples.org/calendar/mca-sweetheart-dance-1526653959\n\nMCA Sweethe
 art Dance
DTSTART;TZID=America/New_York:20190302T060000
DTEND;TZID=America/New_York:20190302T080000
END:VEVENT
END:VCALENDAR
