BEGIN:VCALENDAR
PRODID:-//eluceo/ical//2.0/EN
VERSION:2.0
CALSCALE:GREGORIAN
BEGIN:VEVENT
UID:9e5f929a707242dced202f3c257745d0
DTSTAMP:20260423T230450Z
SUMMARY:MCA Sweetheart Dance
DESCRIPTION:Jewish Federation of Greater Naples\nCommunity Calendar\nhttps:
 //jewishnaples.org/calendar/mca-sweetheart-dance\n\nMCA Sweetheart Dance
DTSTART;TZID=America/New_York:20230225T180000
DTEND;TZID=America/New_York:20230225T210000
END:VEVENT
END:VCALENDAR
