BEGIN:VCALENDAR
PRODID:-//eluceo/ical//2.0/EN
VERSION:2.0
CALSCALE:GREGORIAN
BEGIN:VEVENT
UID:f0d6d2db6b9e0734a6a6fc23ab80ecf9
DTSTAMP:20260420T065050Z
SUMMARY:MCA Special From Green Beret-19th Director of the US Secret Service
DESCRIPTION:Jewish Federation of Greater Naples\nCommunity Calendar\nhttps:
 //jewishnaples.org/calendar/mca-special-from-green-beret-19th-director-of-
 the-us-secret-service-1684754211\n\nMCA Special Speaker: Instincts – My 
 Career: From Green Beret to the 19th Director of the US Secret Service
DTSTART;TZID=America/New_York:20240117T190000
DTEND;TZID=America/New_York:20240117T220000
END:VEVENT
END:VCALENDAR
