BEGIN:VCALENDAR
PRODID:-//eluceo/ical//2.0/EN
VERSION:2.0
CALSCALE:GREGORIAN
BEGIN:VEVENT
UID:6e4504a58d74d56d7368bcf9e57ad737
DTSTAMP:20260422T135803Z
SUMMARY:MCA Speaker\, Steve Schreier "Israel Between the Wars"
DESCRIPTION:Jewish Federation of Greater Naples\nCommunity Calendar\nhttps:
 //jewishnaples.org/calendar/mca-speaker-steve-schreier-israel-between-the-
 wars-1559836670\n\nEvent for MCA members will take place at the Naples Dai
 ly News.\n\nPlease make your reservation through the MCA.
DTSTART;TZID=America/New_York:20191106T100000
DTEND;TZID=America/New_York:20191106T120000
END:VEVENT
END:VCALENDAR
