BEGIN:VCALENDAR
PRODID:-//eluceo/ical//2.0/EN
VERSION:2.0
CALSCALE:GREGORIAN
BEGIN:VEVENT
UID:bece4c1beadb710c688e9ffca3fc1317
DTSTAMP:20260423T174256Z
SUMMARY:MCA Sock Hop 2
DESCRIPTION:Jewish Federation of Greater Naples\nCommunity Calendar\nhttps:
 //jewishnaples.org/calendar/mca-sock-hop-2-1708366737\n\nMCA Sock Hop 2
DTSTART;TZID=America/New_York:20241109T180000
DTEND;TZID=America/New_York:20241109T220000
END:VEVENT
END:VCALENDAR
