BEGIN:VCALENDAR
PRODID:-//eluceo/ical//2.0/EN
VERSION:2.0
CALSCALE:GREGORIAN
BEGIN:VEVENT
UID:b73126b62026e6d813bab2616ce338f2
DTSTAMP:20260424T054700Z
SUMMARY:MCA program: Israel and War
DESCRIPTION:Jewish Federation of Greater Naples\nCommunity Calendar\nhttps:
 //jewishnaples.org/calendar/mca-program-israel-and-war-1746639038\n\nIsrae
 l and War program
DTSTART;TZID=America/New_York:20260223T190000
DTEND;TZID=America/New_York:20260223T200000
END:VEVENT
END:VCALENDAR
