BEGIN:VCALENDAR
PRODID:-//eluceo/ical//2.0/EN
VERSION:2.0
CALSCALE:GREGORIAN
BEGIN:VEVENT
UID:d4f69c9aa7104e6d16d9c186236a0b1a
DTSTAMP:20260422T010842Z
SUMMARY:MCA presents Impersonator Ken Block
DESCRIPTION:Jewish Federation of Greater Naples\nCommunity Calendar\nhttps:
 //jewishnaples.org/calendar/mca-presents-impersonator-ken-block-1732034633
 \n\nMCA program
DTSTART;TZID=America/New_York:20250325T190000
DTEND;TZID=America/New_York:20250325T210000
END:VEVENT
END:VCALENDAR
