BEGIN:VCALENDAR
PRODID:-//eluceo/ical//2.0/EN
VERSION:2.0
CALSCALE:GREGORIAN
BEGIN:VEVENT
UID:e0779a2d9e809005d980b6630e88ca8b
DTSTAMP:20260423T201629Z
SUMMARY:MCA Monte Carlo Night
DESCRIPTION:Jewish Federation of Greater Naples\nCommunity Calendar\nhttps:
 //jewishnaples.org/calendar/mca-monte-carlo-night-1687537405\n\nMCA  Monte
  Carlo Night
DTSTART;TZID=America/New_York:20240128T190000
DTEND;TZID=America/New_York:20240128T220000
END:VEVENT
END:VCALENDAR
