BEGIN:VCALENDAR
PRODID:-//eluceo/ical//2.0/EN
VERSION:2.0
CALSCALE:GREGORIAN
BEGIN:VEVENT
UID:c7e9b8e56bf05941ee3541b31e6ef661
DTSTAMP:20260423T231409Z
SUMMARY:MCA Luncheon
DESCRIPTION:Jewish Federation of Greater Naples\nCommunity Calendar\nhttps:
 //jewishnaples.org/calendar/mca-luncheon-3\n\nMCA Luncheon
DTSTART;TZID=America/New_York:20181212T110000
DTEND;TZID=America/New_York:20181212T130000
END:VEVENT
END:VCALENDAR
