BEGIN:VCALENDAR
PRODID:-//eluceo/ical//2.0/EN
VERSION:2.0
CALSCALE:GREGORIAN
BEGIN:VEVENT
UID:7f22536d4be116d9eaa345aae1645d50
DTSTAMP:20260423T213302Z
SUMMARY:MCA Luncheon
DESCRIPTION:Jewish Federation of Greater Naples\nCommunity Calendar\nhttps:
 //jewishnaples.org/calendar/mca-luncheon-1736794777\n\nMCA Luncheon
DTSTART;TZID=America/New_York:20251113T113000
DTEND;TZID=America/New_York:20251113T140000
END:VEVENT
END:VCALENDAR
