BEGIN:VCALENDAR
PRODID:-//eluceo/ical//2.0/EN
VERSION:2.0
CALSCALE:GREGORIAN
BEGIN:VEVENT
UID:690fd19839cd1842aa2993499dde6537
DTSTAMP:20260422T224143Z
SUMMARY:MCA Luncheon
DESCRIPTION:Jewish Federation of Greater Naples\nCommunity Calendar\nhttps:
 //jewishnaples.org/calendar/mca-luncheon-1560950542\n\nMCA members
DTSTART;TZID=America/New_York:20200319T110000
DTEND;TZID=America/New_York:20200319T130000
END:VEVENT
END:VCALENDAR
