BEGIN:VCALENDAR
PRODID:-//eluceo/ical//2.0/EN
VERSION:2.0
CALSCALE:GREGORIAN
BEGIN:VEVENT
UID:ef8ee31371b1b477c1db438977d6ddb6
DTSTAMP:20260423T073001Z
SUMMARY:MCA Luncheon
DESCRIPTION:Jewish Federation of Greater Naples\nCommunity Calendar\nhttps:
 //jewishnaples.org/calendar/mca-luncheon-1560779779\n\nMCA members only- L
 uncheon Check for time and details through the MCA
DTSTART;TZID=America/New_York:20200109T120000
DTEND;TZID=America/New_York:20200109T140000
END:VEVENT
END:VCALENDAR
