BEGIN:VCALENDAR
PRODID:-//eluceo/ical//2.0/EN
VERSION:2.0
CALSCALE:GREGORIAN
BEGIN:VEVENT
UID:755d5b314302b4c6f6106eec3a6c50d5
DTSTAMP:20260423T030141Z
SUMMARY:MCA Luncheon
DESCRIPTION:Jewish Federation of Greater Naples\nCommunity Calendar\nhttps:
 //jewishnaples.org/calendar/mca-luncheon\n\nMCA Luncheon
DTSTART;TZID=America/New_York:20170112T113000
DTEND;TZID=America/New_York:20170112T133000
END:VEVENT
END:VCALENDAR
