BEGIN:VCALENDAR
PRODID:-//eluceo/ical//2.0/EN
VERSION:2.0
CALSCALE:GREGORIAN
BEGIN:VEVENT
UID:06dcd4be372622db3f9d18f3472f09df
DTSTAMP:20260424T052226Z
SUMMARY:MCA Fall Dance
DESCRIPTION:Jewish Federation of Greater Naples\nCommunity Calendar\nhttps:
 //jewishnaples.org/calendar/mca-fall-dance-1741688042\n\nMCA
DTSTART;TZID=America/New_York:20251115T190000
DTEND;TZID=America/New_York:20251115T210000
END:VEVENT
END:VCALENDAR
