BEGIN:VCALENDAR
PRODID:-//eluceo/ical//2.0/EN
VERSION:2.0
CALSCALE:GREGORIAN
BEGIN:VEVENT
UID:767b1d99f35e94a91c37e6db095ab6d8
DTSTAMP:20260420T183202Z
SUMMARY:MCA End of Season BBQ
DESCRIPTION:Jewish Federation of Greater Naples\nCommunity Calendar\nhttps:
 //jewishnaples.org/calendar/mca-end-of-season-bbq-1731953447\n\nMCA\nEnd o
 f Season BBQ
DTSTART;TZID=America/New_York:20250427T110000
DTEND;TZID=America/New_York:20250427T143000
END:VEVENT
END:VCALENDAR
