BEGIN:VCALENDAR
PRODID:-//eluceo/ical//2.0/EN
VERSION:2.0
CALSCALE:GREGORIAN
BEGIN:VEVENT
UID:39bf74798e296cb2dc2e01ac3b84aff8
DTSTAMP:20260420T035251Z
SUMMARY:MCA Doc Film
DESCRIPTION:Jewish Federation of Greater Naples\nCommunity Calendar\nhttps:
 //jewishnaples.org/calendar/mca-doc-film\n\nMCA/WCA Doc Film
DTSTART;TZID=America/New_York:20241112T133000
DTEND;TZID=America/New_York:20241112T153000
END:VEVENT
END:VCALENDAR
