BEGIN:VCALENDAR
PRODID:-//eluceo/ical//2.0/EN
VERSION:2.0
CALSCALE:GREGORIAN
BEGIN:VEVENT
UID:e7fac6b1a2b0eeac2d846a9396b1a751
DTSTAMP:20260421T235138Z
SUMMARY:MCA Comedy Night and Candle Lighting
DESCRIPTION:Jewish Federation of Greater Naples\nCommunity Calendar\nhttps:
 //jewishnaples.org/calendar/mca-comedy-night-and-candle-lighting-161187052
 0\n\nMCA members
DTSTART;TZID=America/New_York:20211201T190000
DTEND;TZID=America/New_York:20211201T210000
END:VEVENT
END:VCALENDAR
