BEGIN:VCALENDAR
PRODID:-//eluceo/ical//2.0/EN
VERSION:2.0
CALSCALE:GREGORIAN
BEGIN:VEVENT
UID:e5ad341fab33fae8087c71a15e26c3f5
DTSTAMP:20260421T014128Z
SUMMARY:MCA Chanukah Event
DESCRIPTION:Jewish Federation of Greater Naples\nCommunity Calendar\nhttps:
 //jewishnaples.org/calendar/mca-chanukah-event-1636572255\n\nMCA Comedy Ni
 ght and Candle Lighting
DTSTART;TZID=America/New_York:20221220T160000
DTEND;TZID=America/New_York:20221220T210000
END:VEVENT
END:VCALENDAR
