BEGIN:VCALENDAR
PRODID:-//eluceo/ical//2.0/EN
VERSION:2.0
CALSCALE:GREGORIAN
BEGIN:VEVENT
UID:cc87a81d4fb2ed98a438dc67cc7c1f7a
DTSTAMP:20260424T010050Z
SUMMARY:MCA All Shook Up
DESCRIPTION:Jewish Federation of Greater Naples\nCommunity Calendar\nhttps:
 //jewishnaples.org/calendar/mca-all-shook-up-1749588284\n\nMCA  11:30 lunc
 h 1:00 pm show
DTSTART;TZID=America/New_York:20260426T113000
DTEND;TZID=America/New_York:20260426T140000
END:VEVENT
END:VCALENDAR
