BEGIN:VCALENDAR
PRODID:-//eluceo/ical//2.0/EN
VERSION:2.0
CALSCALE:GREGORIAN
BEGIN:VEVENT
UID:10b7666375fa73e8ec5603f04207ef41
DTSTAMP:20260424T043719Z
SUMMARY:MCA 7th annual sweetheart dinner dance
DESCRIPTION:Jewish Federation of Greater Naples\nCommunity Calendar\nhttps:
 //jewishnaples.org/calendar/mca-7th-annual-sweetheart-dinner-dance-1684754
 051\n\nMCA 7th annual sweetheart dinner dance
DTSTART;TZID=America/New_York:20240302T180000
DTEND;TZID=America/New_York:20240302T220000
END:VEVENT
END:VCALENDAR
