BEGIN:VCALENDAR
PRODID:-//eluceo/ical//2.0/EN
VERSION:2.0
CALSCALE:GREGORIAN
BEGIN:VEVENT
UID:5b540ce385475a1343325e7333c54e9a
DTSTAMP:20260423T141526Z
SUMMARY:MCA 10th annual Sweetheart Dance
DESCRIPTION:Jewish Federation of Greater Naples\nCommunity Calendar\nhttps:
 //jewishnaples.org/calendar/mca-10th-annual-sweetheart-dance-1751551182\n\
 nMCA 10th annual Sweetheart Dance
DTSTART;TZID=America/New_York:20260307T180000
DTEND;TZID=America/New_York:20260307T200000
END:VEVENT
END:VCALENDAR
