BEGIN:VCALENDAR
PRODID:-//eluceo/ical//2.0/EN
VERSION:2.0
CALSCALE:GREGORIAN
BEGIN:VEVENT
UID:00b6cc1beb60b34fa1999748e8539d4d
DTSTAMP:20260423T152509Z
SUMMARY:Documentary Film
DESCRIPTION:Jewish Federation of Greater Naples\nCommunity Calendar\nhttps:
 //jewishnaples.org/calendar/mca---wca-documentary-film-1559834141\n\n Doc
 umentary Film at Temple Shalom for WCA & MCA members.\n\nReservations are 
 a must!
DTSTART;TZID=America/New_York:20191105T130000
DTEND;TZID=America/New_York:20191105T150000
END:VEVENT
END:VCALENDAR
