BEGIN:VCALENDAR
PRODID:-//eluceo/ical//2.0/EN
VERSION:2.0
CALSCALE:GREGORIAN
BEGIN:VEVENT
UID:9ae067fec9dcd41ce27b00e43b37a59f
DTSTAMP:20260420T202835Z
SUMMARY:Mat Pilates
DESCRIPTION:Jewish Federation of Greater Naples\nCommunity Calendar\nhttps:
 //jewishnaples.org/calendar/mat-pilates-1715728529\n\nEveryone is invited!
 \nCome join us for Mat Pilates with instructor Olivia\nEach class is $10.0
 0* and last 50 minutes.\nSign up for 1 or all 3 classes\, here at the Nina
  Iser Jewish Cultural Center\n\nGentle Mat & Chair Pilates\n\nJoin us for 
 a summer series\, a rejuvenating journey of movement and mindfulness with 
 our Gentle Mat & Chair Pilates.\n\nEach class offers a safe and effective 
 way to improve strength\, flexibility\, and overall well-being.\nLed by in
 structor Olivia\, who specializes in w...
DTSTART;TZID=America/New_York:20240610T100000
DTEND;TZID=America/New_York:20240610T105000
END:VEVENT
END:VCALENDAR
