BEGIN:VCALENDAR
PRODID:-//eluceo/ical//2.0/EN
VERSION:2.0
CALSCALE:GREGORIAN
BEGIN:VEVENT
UID:c4199a37465640347660498a4e1ca9f7
DTSTAMP:20260422T235435Z
SUMMARY:Master Class of SWFL Jewish History
DESCRIPTION:Jewish Federation of Greater Naples\nCommunity Calendar\nhttps:
 //jewishnaples.org/calendar/master-class-of-swfl-jewish-history-1559753091
 \n\nMaster Class of Southwest Florida Jewish History presented by the Jewi
 sh Historical Society of SWFL\n\nLocation: Jewish Federation of Greater Na
 ples
DTSTART;TZID=America/New_York:20190918T160000
DTEND;TZID=America/New_York:20190918T235900
END:VEVENT
END:VCALENDAR
