BEGIN:VCALENDAR
PRODID:-//eluceo/ical//2.0/EN
VERSION:2.0
CALSCALE:GREGORIAN
BEGIN:VEVENT
UID:a12bf5fb3dcd9870d9baf58cc81cb1f0
DTSTAMP:20260423T183331Z
SUMMARY:Make and Take Greeting Cards
DESCRIPTION:Jewish Federation of Greater Naples\nCommunity Calendar\nhttps:
 //jewishnaples.org/calendar/make-and-take-greeting-cards-1723830749\n\nMak
 e and Take Greeting Cards\nFriday\, September 27\n\nTwo sessions are being
  offered with a potluck lunch!\n\n \n\nFirst session is at 10:00 am\nPotl
 uck lunch at 11:30 am\nSecond session is at 1:00 pm\n\nFree for all to att
 end.\nAll craft supplies are provided for\n\nPlease reply to Renee’ to l
 et her know which session you are coming to and what kosher style dairy it
 em you can bring. Appetizers\, side dish\, salad\, fruit or dessert.
DTSTART;TZID=America/New_York:20240927T100000
DTEND;TZID=America/New_York:20240927T140000
END:VEVENT
END:VCALENDAR
