BEGIN:VCALENDAR
PRODID:-//eluceo/ical//2.0/EN
VERSION:2.0
CALSCALE:GREGORIAN
BEGIN:VEVENT
UID:2524ba2250e10e605c6fef2f2b8bd48b
DTSTAMP:20260423T192447Z
SUMMARY:Major Fundraiser - Temple Shalom
DESCRIPTION:Jewish Federation of Greater Naples\nCommunity Calendar\nhttps:
 //jewishnaples.org/calendar/major-fundraiser-temple-shalom\n\nTemple Shalo
 m's Major Fundraiser of the year.
DTSTART;TZID=America/New_York:20260321T180000
DTEND;TZID=America/New_York:20260321T230000
END:VEVENT
END:VCALENDAR
