BEGIN:VCALENDAR
PRODID:-//eluceo/ical//2.0/EN
VERSION:2.0
CALSCALE:GREGORIAN
BEGIN:VEVENT
UID:2355114db96cc0673829d9e41ede6c1a
DTSTAMP:20260422T091741Z
SUMMARY:Maimonides: The Wonders of Weizmann
DESCRIPTION:Jewish Federation of Greater Naples\nCommunity Calendar\nhttps:
 //jewishnaples.org/calendar/maimonides-the-wonders-of-weizmann\n\nMaimonid
 es Medical Society\n\nFor Jewish people in the medical field \n\nsponsored
  by the Jewish Federation of Collier County\n\n \n\nThe Wonders of Weizma
 nn: \n\nInnovations from the Weizmann Institute of Science\n\n \n\n \n\
 nTuesday\, January 17th from 6:00-7:30 pm\n\nAt\n\nThe Jewish Federation o
 f Collier County\n\n \n\nThe Weizmann Institute of Science advances knowl
 edge and innovation that position Israel as a global technological and sci
 entific leader.  Scientists at the Institute ...
DTSTART;TZID=America/New_York:20170117T180000
DTEND;TZID=America/New_York:20170117T193000
END:VEVENT
END:VCALENDAR
