BEGIN:VCALENDAR
PRODID:-//eluceo/ical//2.0/EN
VERSION:2.0
CALSCALE:GREGORIAN
BEGIN:VEVENT
UID:96f01bdc03e0d01df1c098a9cd872ccf
DTSTAMP:20260424T101543Z
SUMMARY:Maimonides May
DESCRIPTION:Jewish Federation of Greater Naples\nCommunity Calendar\nhttps:
 //jewishnaples.org/calendar/maimonides-may\n\nMaimonides Medical Society\n
 \nFor Jewish people in the medical field\n\nsponsored by the Jewish Federa
 tion of Collier County\n\n \n\nThursday\, May 11\, 2017\n\n7:00-8:00 pm.\
 n\nAt the Jewish Federation of Collier County\n\n \n\nA Presentation on\n
 \nThe Latest Advances in Cancer Research Being Made in Israel\n\n \n\nSpe
 aker: Joseph D. Rosenblatt\, M.D.\n\nChief\, Hematology Division\n\nProfes
 sor of Medicine\, Microbiology and Immunology\n\nWilliam J. Harrington Cha
 ir in Hematology\n\nSylvester ...
DTSTART;TZID=America/New_York:20170511T190000
DTEND;TZID=America/New_York:20170511T200000
END:VEVENT
END:VCALENDAR
