BEGIN:VCALENDAR
PRODID:-//eluceo/ical//2.0/EN
VERSION:2.0
CALSCALE:GREGORIAN
BEGIN:VEVENT
UID:fa3121784abcaa8bcb0d642422b0f036
DTSTAMP:20260423T115830Z
SUMMARY:Maimonides April
DESCRIPTION:Jewish Federation of Greater Naples\nCommunity Calendar\nhttps:
 //jewishnaples.org/calendar/maimonides-april\n\nMaimonides Medical Society
 \n\nFor Jewish people in the medical field\n\nsponsored by the Jewish Fede
 ration of Collier County\n\n \n\nLegal Topics Affecting Physicians\n\n \
 n\nTuesday\, April 25\, 2017 \n\n6:30-7:30 pm\n\n \n\nAt the\n\n  Jewish
  Federation of Collier County\n\n \n\n \n\nTopics: “Round table discus
 sion regarding Non-compete Agreements\, the conversion to a concierge prac
 tices\, and pitfalls to avoid in employment law.”\n\n \n\n \n\nSponsor
 ed by the law firm Porter Wrigh...
DTSTART;TZID=America/New_York:20170425T183000
DTEND;TZID=America/New_York:20170425T193000
END:VEVENT
END:VCALENDAR
