BEGIN:VCALENDAR
PRODID:-//eluceo/ical//2.0/EN
VERSION:2.0
CALSCALE:GREGORIAN
BEGIN:VEVENT
UID:903cce1da3afe009a2c9d7bd2af5f0d7
DTSTAMP:20260423T225233Z
SUMMARY:Lunch!
DESCRIPTION:Jewish Federation of Greater Naples\nCommunity Calendar\nhttps:
 //jewishnaples.org/calendar/lunch-1710427233\n\nCome celebrate Yom Ha’at
 zmaut aka Israel Independence Day and Jewish American Heritage Month on Tu
 esday\, May 14 at noon.\n\nWe will enjoy a community lunch while listening
  to speakers. Bring your favorite Israeli dish to share. It could be eithe
 r homemade or store-bought\, but it must be kosher style dairy.\n\nThis lu
 nch & learn is in partnership with Jewish Federation of Greater Naples\, T
 he Jewish Historical Society of SWFL and Temple Shalom.\n\n \n\nTuesday\,
  May 14\n\n12:00 pm\n\nNina Ise...
DTSTART;TZID=America/New_York:20240514T120000
DTEND;TZID=America/New_York:20240514T130000
END:VEVENT
END:VCALENDAR
